BEGIN:VCALENDAR
VERSION:2.0
CALSCALE:GREGORIAN
METHOD:REQUEST
PRODID:Asbury Woods
BEGIN:VEVENT
UID: 24738569eb77061ea71@
SUMMARY:Amphibian Adventure
DTSTAMP:20260424T095830
DTSTART:20260425T160000
DTEND:20260425T170000
LOCATION:4105 Asbury Road Erie, PA 16506
DESCRIPTION:Amphibian Adventure - Year of Exploration<br />
<br />
Join us to explore our vernal pools while looking for native amphibians! These precious<br />
ecosystems are the perfect home for salamanders, frogs, toads, and more.<br />
Date: Saturday, April 25th<br />
Time: 4:00 – 5:00 p.m.<br />
Age: All ages<br />
Location: Nature Center<br />
Program Fee: Free, registration required
STATUS:CONFIRMED
SEQUENCE:3
END:VEVENT
END:VCALENDAR