BEGIN:VCALENDAR
VERSION:2.0
CALSCALE:GREGORIAN
METHOD:REQUEST
PRODID:Asbury Woods
BEGIN:VEVENT
UID: 28273069eb9754890d5@
SUMMARY:Winter Solstice Hike
DTSTAMP:20260424T121620
DTSTART:20251221T180000
DTEND:20251221T190000
LOCATION:4105 Asbury Road Erie, PA 16506
DESCRIPTION:Winter Solstice Hike<br />
Embrace the long nights of winter as we hike the trails of Asbury Woods on the<br />
longest night of the year. The entire program is held outdoors. Be sure to check out the lights<br />
at Winter Wonderland before or after the hike!<br />
<br />
Time: 6:00 – 7:00 p.m.; 7:30 – 8:30 p.m.<br />
Age: All Ages<br />
Location: Nature Center<br />
Program Fee: Supporting Donor| $6 Program Fee $8
STATUS:CONFIRMED
SEQUENCE:3
END:VEVENT
END:VCALENDAR