BEGIN:VCALENDAR
VERSION:2.0
CALSCALE:GREGORIAN
METHOD:REQUEST
PRODID:Asbury Woods
BEGIN:VEVENT
UID: 28454369ea04bea60f3@
SUMMARY:Wine and Dine 2025
DTSTAMP:20260423T073838
DTSTART:20250711T190000
DTEND:20250712T100000
LOCATION:4105 Asbury Road Erie, PA 16506
DESCRIPTION:Wine and Dine 2025<br />
<br />
Set in the beautiful gardens and grounds surrounding the Nature Center with the magnificent Asbury Woods as a backdrop, this event is a chance for you to sip, savor and support Asbury woods! Your sponsorship will help ensure Asbury Woods continues to make a huge impact in our region through environmental education, conservation, and outdoor recreation. It is only through the incredible generosity of supporters like you that our programs, impact, and footprint will continue to grow. <br />
<br />
Friday July 11<br />
<br />
7:00 - 10:00 p.m.
STATUS:CONFIRMED
SEQUENCE:3
END:VEVENT
END:VCALENDAR