BEGIN:VCALENDAR
VERSION:2.0
CALSCALE:GREGORIAN
METHOD:REQUEST
PRODID:Asbury Woods
BEGIN:VEVENT
UID: 42813669eb9c15b6a9f@
SUMMARY:Drop in and Discover December 2
DTSTAMP:20260424T123637
DTSTART:20231202T130000
DTEND:20231202T140000
LOCATION:4105 Asbury Road Erie, PA 16506
DESCRIPTION:Looking for something wild to do? Stop in each Saturday to discover something new about the natural world. Each week, Asbury Woods will offer a new experience that could include an animal meet-and-greet, a science experiment, a nature art project, a guided hike, and more.
STATUS:CONFIRMED
SEQUENCE:3
END:VEVENT
END:VCALENDAR