BEGIN:VCALENDAR
VERSION:2.0
CALSCALE:GREGORIAN
METHOD:REQUEST
PRODID:Asbury Woods
BEGIN:VEVENT
UID: 199664969e59eefeb018@
SUMMARY:Nature In Your Neighborhood August 3
DTSTAMP:20260419T233511
DTSTART:20230803T140000
DTEND:20230803T150000
LOCATION:571-601 State Street Erie , Pa 16501
DESCRIPTION:Nature in Your Neighborhood: August 3Join Asbury Woods for hands-on, minds-on nature and science-based activities every Thursday at different city parks throughout the summer. Hooked on Books for Kids will be partnering with Asbury Woods to hand out a nature-themed book to each child attending.<br />
<br />
Bees &amp; Butterflies, All About Pollinators<br />
<br />
Dates:  Thursday, August 3<br />
Time: 2:00 – 3:00 p.m.<br />
Age: All ages<br />
Location: Perry Square, 571-601 State Street, Erie PA 16501<br />
FREE, no pre-registration required
STATUS:CONFIRMED
SEQUENCE:3
END:VEVENT
END:VCALENDAR