BEGIN:VCALENDAR
VERSION:2.0
CALSCALE:GREGORIAN
METHOD:REQUEST
PRODID:Asbury Woods
BEGIN:VEVENT
UID: 1415569ea845bc9fca@
SUMMARY:Nature In Your Neighborhood July 27
DTSTAMP:20260423T164307
DTSTART:20230727T140000
DTEND:20230727T150000
LOCATION:1750 Buffalo Road Erie, Pa 16510
DESCRIPTION:Nature in Your Neighborhood: July 27Join Asbury Woods for hands-on, minds-on nature and science-based activities every Thursday at different city parks throughout the summer. Hooked on Books for Kids will be partnering with Asbury Woods to hand out a nature-themed book to each child attending.<br />
<br />
Underwater Creatures, Find Creatures Big and Small<br />
<br />
Dates:  Thursday, July 27<br />
Time: 2:00 – 3:00 p.m.<br />
Age: All ages<br />
Location: Rodger Young Park, 1750 Buffalo Road, Erie PA 16510<br />
FREE, no pre-registration required
STATUS:CONFIRMED
SEQUENCE:3
END:VEVENT
END:VCALENDAR