BEGIN:VCALENDAR
VERSION:2.0
CALSCALE:GREGORIAN
METHOD:REQUEST
PRODID:Asbury Woods
BEGIN:VEVENT
UID: 350821169e7c6e74bfb2@
SUMMARY:2021 Trail Run Series
DTSTAMP:20260421T145015
DTSTART:20210612T000000
DTEND:20210612T000000
LOCATION:
DESCRIPTION:Let’s try this again! Covid-19 interrupted all our plans, but we are set to go again in 2021. All safety protocols required at time of race will be observed.
STATUS:CONFIRMED
SEQUENCE:3
END:VEVENT
END:VCALENDAR